BEGIN:VCALENDAR
VERSION:2.0
METHOD:PUBLISH
BEGIN:VEVENT
UID:WILD_APRICOT_EVENT_2067085_SESSION_1
DTSTART:20200302T223000Z
DTEND:20200303T030000Z
SUMMARY:Seniors Club Tuesday-English & Russian Speakers
LOCATION:NCJWA VIC\, 131-133 Hawthorn Road Caulfield North
DESCRIPTION:https://www.ncjwavic.org.au/event-2067085\n\n\nSeniors Club Tuesday\n          Tuesday mornings            9:30 AM - 2:00 PM            The Eva Besen Centre            131-133 Hawthorn Road\, Caulfield North         \n      The Tuesday group includes the Russian-speaking Golden Age Club.\n   \n   Join us for bingo\, red aces\, rummy tiles and more or just to have a chat! Light lunch provided. $8.       \n      For more information contact the office at 9523 0535 (Tuesday or Wednesday morning). 
DTSTAMP:20200301T081349Z
END:VEVENT
END:VCALENDAR
