BEGIN:VCALENDAR
VERSION:2.0
METHOD:PUBLISH
BEGIN:VEVENT
UID:WILD_APRICOT_EVENT_2148266_SESSION_1
DTSTART:20200305T013000Z
DTEND:20200305T043000Z
SUMMARY:Thursday Duplicate Bridge Club
LOCATION:131-133 Hawthorn Road Caulfield North
DESCRIPTION:https://www.ncjwavic.org.au/event-2148266\n\n\nDuplicate Bridge Club\n  Thursdays \n12:30-3:30 PM\nThe Eva Besen Centre\n131-133 Hawthorn Road\, Caulfield North\n\n  Light lunch provided.\n Cost: $13\n For further information please contact our office - 9044 5401.\n  
DTSTAMP:20200301T081412Z
END:VEVENT
END:VCALENDAR
