BEGIN:VCALENDAR
VERSION:2.0
METHOD:PUBLISH
BEGIN:VEVENT
UID:WILD_APRICOT_EVENT_2148275_SESSION_1
DTSTART:20200303T223000Z
DTEND:20200304T030000Z
SUMMARY:Seniors Club Wednesday
LOCATION:131-133 Hawthorn Road Caulfield North
DESCRIPTION:https://www.ncjwavic.org.au/event-2148275\n\n\nSeniors Club Wednesday\n     Wednesday mornings\n   9:30 AM - 2:00 PM\n   The Eva Besen Centre      131-133 Hawthorn Road\, Caulfield North      \n      Join us for bingo\, red aces\, rummy tiles and more or just to have a chat! Light lunch provided. $13.      \n      For more information contact the office at 9523 0535 (Tuesday or Wednesday morning). 
DTSTAMP:20200301T081401Z
END:VEVENT
END:VCALENDAR
