BEGIN:VCALENDAR
VERSION:2.0
METHOD:PUBLISH
BEGIN:VEVENT
UID:WILD_APRICOT_EVENT_3553670_SESSION_1
DTSTART:20191124T043000Z
DTEND:20191124T063000Z
SUMMARY:JamFest 2019
LOCATION:Gandel Philanthropy\, Level 9\, Office Tower One\, Chadstone Place\, 1341 Dandenong Rd\, Chadstone
DESCRIPTION:https://www.ncjwavic.org.au/event-3553670\n\n\n\n
DTSTAMP:20200301T081424Z
END:VEVENT
END:VCALENDAR
