BEGIN:VCALENDAR
VERSION:2.0
METHOD:PUBLISH
BEGIN:VEVENT
UID:WILD_APRICOT_EVENT_3611532_SESSION_1
DTSTART:20200217T030000Z
DTEND:20200217T040000Z
SUMMARY:Volunteers Appreciation and Welcome Back
LOCATION:The Eva Besen Centre  131-133 Hawthorn Rd\, Caulfield North
DESCRIPTION:https://www.ncjwavic.org.au/event-3611532\n\n\n\n
DTSTAMP:20200301T081037Z
END:VEVENT
END:VCALENDAR
